Package: rebook Version: 1.16.0 Command: rm -rf rebook.buildbin-libdir && mkdir rebook.buildbin-libdir && /Users/biocbuild/BBS/utils/build-universal.sh rebook_1.16.0.tar.gz /Library/Frameworks/R.framework/Resources/bin/R rebook.buildbin-libdir StartedAt: 2025-04-02 15:50:47 -0400 (Wed, 02 Apr 2025) EndedAt: 2025-04-02 15:50:54 -0400 (Wed, 02 Apr 2025) EllapsedTime: 7.0 seconds RetCode: 0 Status: OK PackageFile: rebook_1.16.0.tgz PackageFileSize: 328.5 KiB