Package: rbsurv Version: 2.64.0 Command: /home/biocbuild/R/R/bin/R CMD INSTALL rbsurv StartedAt: 2025-01-27 21:48:09 -0000 (Mon, 27 Jan 2025) EndedAt: 2025-01-27 21:48:17 -0000 (Mon, 27 Jan 2025) EllapsedTime: 7.3 seconds RetCode: 0 Status: OK