Package: rawrr Version: 1.14.0 Command: /home/biocbuild/bbs-3.20-bioc/R/bin/R CMD INSTALL rawrr StartedAt: 2025-03-31 15:09:35 -0400 (Mon, 31 Mar 2025) EndedAt: 2025-03-31 15:09:46 -0400 (Mon, 31 Mar 2025) EllapsedTime: 11.2 seconds RetCode: 0 Status: OK