Package: rawrr Version: 1.14.0 Command: /Library/Frameworks/R.framework/Resources/bin/R CMD INSTALL rawrr StartedAt: 2025-01-27 15:10:03 -0500 (Mon, 27 Jan 2025) EndedAt: 2025-01-27 15:10:21 -0500 (Mon, 27 Jan 2025) EllapsedTime: 17.7 seconds RetCode: 0 Status: OK