Package: rawrr Version: 1.14.0 Command: /Library/Frameworks/R.framework/Resources/bin/R CMD build --keep-empty-dirs --no-resave-data rawrr StartedAt: 2025-02-03 21:32:40 -0500 (Mon, 03 Feb 2025) EndedAt: 2025-02-03 21:34:06 -0500 (Mon, 03 Feb 2025) EllapsedTime: 86.5 seconds RetCode: 0 Status: OK PackageFile: rawrr_1.14.0.tar.gz PackageFileSize: 1.962 MiB