Package: rawrr Version: 1.14.0 Command: rm -rf rawrr.buildbin-libdir && mkdir rawrr.buildbin-libdir && /Users/biocbuild/BBS/utils/build-universal.sh rawrr_1.14.0.tar.gz /Library/Frameworks/R.framework/Resources/bin/R rawrr.buildbin-libdir StartedAt: 2025-01-28 14:14:59 -0500 (Tue, 28 Jan 2025) EndedAt: 2025-01-28 14:15:17 -0500 (Tue, 28 Jan 2025) EllapsedTime: 18.8 seconds RetCode: 0 Status: OK PackageFile: rawrr_1.14.0.tgz PackageFileSize: 1.997 MiB