Package: rawDiag Version: 1.2.0 Command: /Library/Frameworks/R.framework/Resources/bin/R CMD build --keep-empty-dirs --no-resave-data rawDiag StartedAt: 2025-02-10 21:34:54 -0500 (Mon, 10 Feb 2025) EndedAt: 2025-02-10 21:37:21 -0500 (Mon, 10 Feb 2025) EllapsedTime: 146.9 seconds RetCode: 0 Status: OK PackageFile: rawDiag_1.2.0.tar.gz PackageFileSize: 2.081 MiB