Package: rawDiag Version: 1.2.0 Command: /Library/Frameworks/R.framework/Resources/bin/R CMD build --keep-empty-dirs --no-resave-data rawDiag StartedAt: 2025-02-04 06:15:04 -0500 (Tue, 04 Feb 2025) EndedAt: 2025-02-04 06:16:00 -0500 (Tue, 04 Feb 2025) EllapsedTime: 55.7 seconds RetCode: 1 Status: ERROR PackageFile: None PackageFileSize: NA