Package: randRotation Version: 1.18.0 Command: /home/biocbuild/R/R/bin/R CMD check --install=check:randRotation.install-out.txt --library=/home/biocbuild/R/R/site-library --no-vignettes --timings randRotation_1.18.0.tar.gz StartedAt: 2025-01-28 10:22:31 -0000 (Tue, 28 Jan 2025) EndedAt: 2025-01-28 10:23:19 -0000 (Tue, 28 Jan 2025) EllapsedTime: 48.1 seconds RetCode: 1 Status: ERROR CheckDir: randRotation.Rcheck Warnings: NA