Package: randRotation Version: 1.18.0 Command: /Library/Frameworks/R.framework/Resources/bin/R CMD INSTALL randRotation StartedAt: 2025-03-31 15:09:00 -0400 (Mon, 31 Mar 2025) EndedAt: 2025-03-31 15:09:22 -0400 (Mon, 31 Mar 2025) EllapsedTime: 22.3 seconds RetCode: 0 Status: OK