Package: randRotation Version: 1.18.0 Command: /Library/Frameworks/R.framework/Resources/bin/R CMD check --install=check:randRotation.install-out.txt --library=/Library/Frameworks/R.framework/Resources/library --no-vignettes --timings randRotation_1.18.0.tar.gz StartedAt: 2025-04-02 05:24:32 -0400 (Wed, 02 Apr 2025) EndedAt: 2025-04-02 05:25:27 -0400 (Wed, 02 Apr 2025) EllapsedTime: 55.5 seconds RetCode: 1 Status: ERROR CheckDir: randRotation.Rcheck Warnings: NA