Package: randPack Version: 1.52.0 Command: /home/biocbuild/R/R/bin/R CMD check --install=check:randPack.install-out.txt --library=/home/biocbuild/R/R/site-library --no-vignettes --timings randPack_1.52.0.tar.gz StartedAt: 2025-02-04 10:12:54 -0000 (Tue, 04 Feb 2025) EndedAt: 2025-02-04 10:13:21 -0000 (Tue, 04 Feb 2025) EllapsedTime: 27.0 seconds RetCode: 0 Status: OK CheckDir: randPack.Rcheck Warnings: 0