Package: randPack Version: 1.52.0 Command: /Library/Frameworks/R.framework/Resources/bin/R CMD build --keep-empty-dirs --no-resave-data randPack StartedAt: 2025-02-03 21:32:04 -0500 (Mon, 03 Feb 2025) EndedAt: 2025-02-03 21:32:25 -0500 (Mon, 03 Feb 2025) EllapsedTime: 20.5 seconds RetCode: 0 Status: OK PackageFile: randPack_1.52.0.tar.gz PackageFileSize: 253.2 KiB