Package: ramr Version: 1.14.0 Command: /Library/Frameworks/R.framework/Resources/bin/R CMD build --keep-empty-dirs --no-resave-data ramr StartedAt: 2025-04-01 05:46:35 -0400 (Tue, 01 Apr 2025) EndedAt: 2025-04-01 05:48:13 -0400 (Tue, 01 Apr 2025) EllapsedTime: 98.2 seconds RetCode: 0 Status: OK PackageFile: ramr_1.14.0.tar.gz PackageFileSize: 2.668 MiB