Package: rain Version: 1.40.0 Command: chmod a+r rain -R && F:\biocbuild\bbs-3.20-bioc\R\bin\R.exe CMD build --keep-empty-dirs --no-resave-data rain StartedAt: 2025-03-31 21:16:27 -0400 (Mon, 31 Mar 2025) EndedAt: 2025-03-31 21:17:01 -0400 (Mon, 31 Mar 2025) EllapsedTime: 34.9 seconds RetCode: 0 Status: OK PackageFile: rain_1.40.0.tar.gz PackageFileSize: 605.3 KiB