Package: rain Version: 1.40.0 Command: /Library/Frameworks/R.framework/Resources/bin/R CMD INSTALL rain StartedAt: 2025-03-31 16:16:46 -0400 (Mon, 31 Mar 2025) EndedAt: 2025-03-31 16:17:02 -0400 (Mon, 31 Mar 2025) EllapsedTime: 15.2 seconds RetCode: 0 Status: OK