Package: raer Version: 1.4.0 Command: F:\biocbuild\bbs-3.20-bioc\R\bin\R.exe CMD check --no-multiarch --install=check:raer.install-out.txt --library=F:\biocbuild\bbs-3.20-bioc\R\library --no-vignettes --timings raer_1.4.0.tar.gz StartedAt: 2025-04-01 04:57:05 -0400 (Tue, 01 Apr 2025) EndedAt: 2025-04-01 05:07:31 -0400 (Tue, 01 Apr 2025) EllapsedTime: 626.1 seconds RetCode: 0 Status: OK CheckDir: raer.Rcheck Warnings: 0