Package: raer Version: 1.4.0 Command: /home/biocbuild/bbs-3.20-bioc/R/bin/R CMD check --install=check:raer.install-out.txt --library=/home/biocbuild/bbs-3.20-bioc/R/site-library --timings raer_1.4.0.tar.gz StartedAt: 2025-04-01 01:18:04 -0400 (Tue, 01 Apr 2025) EndedAt: 2025-04-01 01:30:32 -0400 (Tue, 01 Apr 2025) EllapsedTime: 748.0 seconds RetCode: 0 Status: OK CheckDir: raer.Rcheck Warnings: 0