Package: raer Version: 1.4.0 Command: /home/biocbuild/bbs-3.20-bioc/R/bin/R CMD build --keep-empty-dirs --no-resave-data --md5 raer StartedAt: 2025-03-31 18:40:12 -0400 (Mon, 31 Mar 2025) EndedAt: 2025-03-31 18:46:53 -0400 (Mon, 31 Mar 2025) EllapsedTime: 400.5 seconds RetCode: 0 Status: OK PackageFile: raer_1.4.0.tar.gz PackageFileSize: 2.381 MiB