Package: raer Version: 1.4.0 Command: /Library/Frameworks/R.framework/Resources/bin/R CMD INSTALL raer StartedAt: 2025-03-31 15:36:07 -0400 (Mon, 31 Mar 2025) EndedAt: 2025-03-31 15:37:40 -0400 (Mon, 31 Mar 2025) EllapsedTime: 92.8 seconds RetCode: 0 Status: OK