Package: raer Version: 1.4.0 Command: /Library/Frameworks/R.framework/Resources/bin/R CMD check --install=check:raer.install-out.txt --library=/Library/Frameworks/R.framework/Resources/library --no-vignettes --timings raer_1.4.0.tar.gz StartedAt: 2025-04-01 07:39:26 -0400 (Tue, 01 Apr 2025) EndedAt: 2025-04-01 07:53:09 -0400 (Tue, 01 Apr 2025) EllapsedTime: 823.2 seconds RetCode: 0 Status: OK CheckDir: raer.Rcheck Warnings: 0