Package: raer Version: 1.4.0 Command: /Library/Frameworks/R.framework/Resources/bin/R CMD build --keep-empty-dirs --no-resave-data raer StartedAt: 2025-04-01 05:44:48 -0400 (Tue, 01 Apr 2025) EndedAt: 2025-04-01 05:55:01 -0400 (Tue, 01 Apr 2025) EllapsedTime: 612.9 seconds RetCode: 0 Status: OK PackageFile: raer_1.4.0.tar.gz PackageFileSize: 2.463 MiB