Package: rWikiPathways Version: 1.26.0 Command: /home/biocbuild/R/R/bin/R CMD build --keep-empty-dirs --no-resave-data rWikiPathways StartedAt: 2025-04-01 02:17:36 -0000 (Tue, 01 Apr 2025) EndedAt: 2025-04-01 02:17:52 -0000 (Tue, 01 Apr 2025) EllapsedTime: 16.0 seconds RetCode: 0 Status: OK PackageFile: rWikiPathways_1.26.0.tar.gz PackageFileSize: 10.64 MiB