Package: rWikiPathways Version: 1.26.0 Command: F:\biocbuild\bbs-3.20-bioc\R\bin\R.exe CMD INSTALL rWikiPathways StartedAt: 2025-03-31 15:32:00 -0400 (Mon, 31 Mar 2025) EndedAt: 2025-03-31 15:32:57 -0400 (Mon, 31 Mar 2025) EllapsedTime: 57.4 seconds RetCode: 0 Status: OK