Package: rWikiPathways Version: 1.26.0 Command: chmod a+r rWikiPathways -R && F:\biocbuild\bbs-3.20-bioc\R\bin\R.exe CMD build --keep-empty-dirs --no-resave-data rWikiPathways StartedAt: 2025-01-27 21:39:39 -0500 (Mon, 27 Jan 2025) EndedAt: 2025-01-27 21:41:10 -0500 (Mon, 27 Jan 2025) EllapsedTime: 91.3 seconds RetCode: 0 Status: OK PackageFile: rWikiPathways_1.26.0.tar.gz PackageFileSize: 10.38 MiB