Package: rWikiPathways Version: 1.26.0 Command: /Library/Frameworks/R.framework/Resources/bin/R CMD INSTALL rWikiPathways StartedAt: 2025-01-27 15:19:06 -0500 (Mon, 27 Jan 2025) EndedAt: 2025-01-27 15:19:13 -0500 (Mon, 27 Jan 2025) EllapsedTime: 6.5 seconds RetCode: 0 Status: OK