Package: rWikiPathways Version: 1.26.0 Command: /Library/Frameworks/R.framework/Resources/bin/R CMD build --keep-empty-dirs --no-resave-data rWikiPathways StartedAt: 2025-02-04 07:08:39 -0500 (Tue, 04 Feb 2025) EndedAt: 2025-02-04 07:09:00 -0500 (Tue, 04 Feb 2025) EllapsedTime: 20.6 seconds RetCode: 0 Status: OK PackageFile: rWikiPathways_1.26.0.tar.gz PackageFileSize: 10.38 MiB