Package: rTRMui Version: 1.44.0 Command: F:\biocbuild\bbs-3.20-bioc\R\bin\R.exe CMD check --no-multiarch --install=check:rTRMui.install-out.txt --library=F:\biocbuild\bbs-3.20-bioc\R\library --no-vignettes --timings rTRMui_1.44.0.tar.gz StartedAt: 2025-04-01 05:29:18 -0400 (Tue, 01 Apr 2025) EndedAt: 2025-04-01 05:34:53 -0400 (Tue, 01 Apr 2025) EllapsedTime: 335.3 seconds RetCode: 0 Status: OK CheckDir: rTRMui.Rcheck Warnings: 0