Package: rTRMui Version: 1.44.0 Command: rm -rf rTRMui.buildbin-libdir && mkdir rTRMui.buildbin-libdir && F:\biocbuild\bbs-3.20-bioc\R\bin\R.exe CMD INSTALL --build --library=rTRMui.buildbin-libdir rTRMui_1.44.0.tar.gz StartedAt: 2025-04-01 09:06:46 -0400 (Tue, 01 Apr 2025) EndedAt: 2025-04-01 09:07:46 -0400 (Tue, 01 Apr 2025) EllapsedTime: 59.4 seconds RetCode: 0 Status: OK PackageFile: rTRMui_1.44.0.zip PackageFileSize: 742.9 KiB