Package: rTRMui Version: 1.44.0 Command: /Library/Frameworks/R.framework/Resources/bin/R CMD INSTALL rTRMui StartedAt: 2025-01-27 15:59:56 -0500 (Mon, 27 Jan 2025) EndedAt: 2025-01-27 16:01:42 -0500 (Mon, 27 Jan 2025) EllapsedTime: 105.6 seconds RetCode: 0 Status: OK