Package: rTRMui Version: 1.44.0 Command: /Library/Frameworks/R.framework/Resources/bin/R CMD check --install=check:rTRMui.install-out.txt --library=/Library/Frameworks/R.framework/Resources/library --no-vignettes --timings rTRMui_1.44.0.tar.gz StartedAt: 2025-04-02 07:07:31 -0400 (Wed, 02 Apr 2025) EndedAt: 2025-04-02 07:12:41 -0400 (Wed, 02 Apr 2025) EllapsedTime: 310.8 seconds RetCode: 0 Status: OK CheckDir: rTRMui.Rcheck Warnings: 0