Package: rTRMui Version: 1.44.0 Command: /Library/Frameworks/R.framework/Resources/bin/R CMD build --keep-empty-dirs --no-resave-data rTRMui StartedAt: 2025-04-01 06:41:34 -0400 (Tue, 01 Apr 2025) EndedAt: 2025-04-01 06:42:51 -0400 (Tue, 01 Apr 2025) EllapsedTime: 77.2 seconds RetCode: 0 Status: OK PackageFile: rTRMui_1.44.0.tar.gz PackageFileSize: 1.11 MiB