Package: rTRM Version: 1.44.0 Command: /home/biocbuild/bbs-3.20-bioc/R/bin/R CMD build --keep-empty-dirs --no-resave-data rTRM StartedAt: 2024-11-19 21:25:01 -0500 (Tue, 19 Nov 2024) EndedAt: 2024-11-19 21:25:55 -0500 (Tue, 19 Nov 2024) EllapsedTime: 54.4 seconds RetCode: 0 Status: OK PackageFile: rTRM_1.44.0.tar.gz PackageFileSize: 3.51 MiB