Package: rTRM Version: 1.44.0 Command: /home/biocbuild/R/R/bin/R CMD build --keep-empty-dirs --no-resave-data rTRM StartedAt: 2025-01-28 02:59:19 -0000 (Tue, 28 Jan 2025) EndedAt: 2025-01-28 02:59:53 -0000 (Tue, 28 Jan 2025) EllapsedTime: 33.0 seconds RetCode: 1 Status: ERROR PackageFile: None PackageFileSize: NA