Package: rScudo Version: 1.22.0 Command: F:\biocbuild\bbs-3.20-bioc\R\bin\R.exe CMD INSTALL rScudo StartedAt: 2025-01-27 15:55:34 -0500 (Mon, 27 Jan 2025) EndedAt: 2025-01-27 15:55:52 -0500 (Mon, 27 Jan 2025) EllapsedTime: 18.7 seconds RetCode: 0 Status: OK