Package: rScudo Version: 1.22.0 Command: /Library/Frameworks/R.framework/Resources/bin/R CMD check --install=check:rScudo.install-out.txt --library=/Library/Frameworks/R.framework/Resources/library --no-vignettes --timings rScudo_1.22.0.tar.gz StartedAt: 2025-04-01 08:22:38 -0400 (Tue, 01 Apr 2025) EndedAt: 2025-04-01 08:24:04 -0400 (Tue, 01 Apr 2025) EllapsedTime: 86.5 seconds RetCode: 0 Status: OK CheckDir: rScudo.Rcheck Warnings: 0