Package: rSWeeP Version: 1.18.0 Command: /home/biocbuild/bbs-3.20-bioc/R/bin/R CMD check --install=check:rSWeeP.install-out.txt --library=/home/biocbuild/bbs-3.20-bioc/R/site-library --timings rSWeeP_1.18.0.tar.gz StartedAt: 2025-04-01 01:44:46 -0400 (Tue, 01 Apr 2025) EndedAt: 2025-04-01 01:46:36 -0400 (Tue, 01 Apr 2025) EllapsedTime: 110.2 seconds RetCode: 0 Status: OK CheckDir: rSWeeP.Rcheck Warnings: 0