Package: rSWeeP Version: 1.18.0 Command: /Library/Frameworks/R.framework/Resources/bin/R CMD INSTALL rSWeeP StartedAt: 2025-02-03 15:31:52 -0500 (Mon, 03 Feb 2025) EndedAt: 2025-02-03 15:31:59 -0500 (Mon, 03 Feb 2025) EllapsedTime: 6.9 seconds RetCode: 0 Status: OK