Package: rSWeeP Version: 1.18.0 Command: /Library/Frameworks/R.framework/Resources/bin/R CMD check --install=check:rSWeeP.install-out.txt --library=/Library/Frameworks/R.framework/Resources/library --no-vignettes --timings rSWeeP_1.18.0.tar.gz StartedAt: 2025-02-05 08:17:20 -0500 (Wed, 05 Feb 2025) EndedAt: 2025-02-05 08:19:15 -0500 (Wed, 05 Feb 2025) EllapsedTime: 114.9 seconds RetCode: 0 Status: OK CheckDir: rSWeeP.Rcheck Warnings: 0