Package: rSWeeP Version: 1.18.0 Command: /Library/Frameworks/R.framework/Resources/bin/R CMD build --keep-empty-dirs --no-resave-data rSWeeP StartedAt: 2025-02-04 07:03:35 -0500 (Tue, 04 Feb 2025) EndedAt: 2025-02-04 07:04:04 -0500 (Tue, 04 Feb 2025) EllapsedTime: 28.7 seconds RetCode: 0 Status: OK PackageFile: rSWeeP_1.18.0.tar.gz PackageFileSize: 358.7 KiB