Package: rRDP Version: 1.40.0 Command: /home/biocbuild/bbs-3.20-bioc/R/bin/R CMD INSTALL rRDP StartedAt: 2025-01-27 16:02:55 -0500 (Mon, 27 Jan 2025) EndedAt: 2025-01-27 16:03:05 -0500 (Mon, 27 Jan 2025) EllapsedTime: 9.6 seconds RetCode: 0 Status: OK