Package: rRDP Version: 1.40.0 Command: /Library/Frameworks/R.framework/Resources/bin/R CMD check --install=check:rRDP.install-out.txt --library=/Library/Frameworks/R.framework/Resources/library --no-vignettes --timings rRDP_1.40.0.tar.gz StartedAt: 2025-01-29 07:09:45 -0500 (Wed, 29 Jan 2025) EndedAt: 2025-01-29 07:11:27 -0500 (Wed, 29 Jan 2025) EllapsedTime: 102.4 seconds RetCode: 0 Status: OK CheckDir: rRDP.Rcheck Warnings: 0