Package: rGenomeTracks Version: 1.12.0 Command: F:\biocbuild\bbs-3.20-bioc\R\bin\R.exe CMD INSTALL rGenomeTracks StartedAt: 2025-03-31 16:18:49 -0400 (Mon, 31 Mar 2025) EndedAt: 2025-03-31 16:19:11 -0400 (Mon, 31 Mar 2025) EllapsedTime: 21.5 seconds RetCode: 0 Status: OK