Package: rGenomeTracks Version: 1.12.0 Command: F:\biocbuild\bbs-3.20-bioc\R\bin\R.exe CMD check --no-multiarch --install=check:rGenomeTracks.install-out.txt --library=F:\biocbuild\bbs-3.20-bioc\R\library --no-vignettes --timings rGenomeTracks_1.12.0.tar.gz StartedAt: 2025-02-04 05:29:33 -0500 (Tue, 04 Feb 2025) EndedAt: 2025-02-04 05:30:39 -0500 (Tue, 04 Feb 2025) EllapsedTime: 66.3 seconds RetCode: 0 Status: OK CheckDir: rGenomeTracks.Rcheck Warnings: 0