Package: rGenomeTracks Version: 1.12.0 Command: chmod a+r rGenomeTracks -R && F:\biocbuild\bbs-3.20-bioc\R\bin\R.exe CMD build --keep-empty-dirs --no-resave-data rGenomeTracks StartedAt: 2025-01-27 21:28:44 -0500 (Mon, 27 Jan 2025) EndedAt: 2025-01-27 21:29:05 -0500 (Mon, 27 Jan 2025) EllapsedTime: 21.4 seconds RetCode: 0 Status: OK PackageFile: rGenomeTracks_1.12.0.tar.gz PackageFileSize: 3.341 MiB