Package: rGREAT Version: 2.8.0 Command: /home/biocbuild/bbs-3.20-bioc/R/bin/R CMD build --keep-empty-dirs --no-resave-data --md5 rGREAT StartedAt: 2025-03-31 18:46:59 -0400 (Mon, 31 Mar 2025) EndedAt: 2025-03-31 18:47:45 -0400 (Mon, 31 Mar 2025) EllapsedTime: 46.0 seconds RetCode: 0 Status: OK PackageFile: rGREAT_2.8.0.tar.gz PackageFileSize: 2.755 MiB