Package: rGREAT Version: 2.8.0 Command: /Library/Frameworks/R.framework/Resources/bin/R CMD INSTALL rGREAT StartedAt: 2025-02-03 16:02:03 -0500 (Mon, 03 Feb 2025) EndedAt: 2025-02-03 16:03:40 -0500 (Mon, 03 Feb 2025) EllapsedTime: 96.5 seconds RetCode: 0 Status: OK