Package: rGREAT Version: 2.8.0 Command: /Library/Frameworks/R.framework/Resources/bin/R CMD check --install=check:rGREAT.install-out.txt --library=/Library/Frameworks/R.framework/Resources/library --no-vignettes --timings rGREAT_2.8.0.tar.gz StartedAt: 2025-02-04 08:55:45 -0500 (Tue, 04 Feb 2025) EndedAt: 2025-02-04 09:11:01 -0500 (Tue, 04 Feb 2025) EllapsedTime: 916.4 seconds RetCode: 0 Status: OK CheckDir: rGREAT.Rcheck Warnings: 0