Package: rGADEM Version: 2.54.0 Command: F:\biocbuild\bbs-3.20-bioc\R\bin\R.exe CMD INSTALL rGADEM StartedAt: 2025-01-27 16:13:55 -0500 (Mon, 27 Jan 2025) EndedAt: 2025-01-27 16:14:59 -0500 (Mon, 27 Jan 2025) EllapsedTime: 63.9 seconds RetCode: 0 Status: OK