Package: rGADEM Version: 2.54.0 Command: F:\biocbuild\bbs-3.20-bioc\R\bin\R.exe CMD check --no-multiarch --install=check:rGADEM.install-out.txt --library=F:\biocbuild\bbs-3.20-bioc\R\library --no-vignettes --timings rGADEM_2.54.0.tar.gz StartedAt: 2025-04-01 05:11:10 -0400 (Tue, 01 Apr 2025) EndedAt: 2025-04-01 05:16:27 -0400 (Tue, 01 Apr 2025) EllapsedTime: 317.3 seconds RetCode: 0 Status: WARNINGS CheckDir: rGADEM.Rcheck Warnings: 1